BEGIN:VCALENDAR
VERSION:2.0
PRODID:-//AudioTheme 3.0.2
BEGIN:VEVENT
UID:urn:uuid:a5f8cb88-02c5-45fb-91c9-1f2064f09135
URL:https://manowar.com/tour/the-blood-of-our-enemies-tour-2025-ludwigsburg-germany-mhp-arena-2/
DTSTART;TZID=GMT:20250129T190000
SUMMARY:THE BLOOD OF OUR ENEMIES TOUR 2025 - STOCKHOLM, SWEDEN
DESCRIPTION:Join us as we celebrate highlights from the albums "Sign of the Hammer" and "Hail to England\," and other greatest hits! Feel the energy and community of our Army of Immortals! A MUST for every true MANOWAR fan! 🔥💪
LOCATION:Cirkus\, Djurgårdsslätten 43-45\, Stockholm\, \, Sweden\, 115 21
END:VEVENT
END:VCALENDAR
