BEGIN:VCALENDAR
VERSION:2.0
PRODID:-//AudioTheme 3.0.2
BEGIN:VEVENT
UID:urn:uuid:a5f8cb88-02c5-45fb-91c9-1f2064f09135
URL:https://manowar.com/tour/the-blood-of-our-enemies-tour-2025-amsterdam-netherlands-afas-live/
DTSTART;TZID=GMT:20250124T190000
SUMMARY:THE BLOOD OF OUR ENEMIES TOUR 2025 - BRATISLAVA, SLOVAKIA – PEUGEOT ARÉNA
DESCRIPTION:Join us as we celebrate highlights from the albums "Sign of the Hammer" and "Hail to England\," and other greatest hits in a brand-new stage production. Feel the energy and community of our Army of Immortals! A MUST for every true MANOWAR fan! 🔥💪
LOCATION:PEUGEOT ARÉNA\, Bratislava\, \, Slovakia
END:VEVENT
END:VCALENDAR
