BEGIN:VCALENDAR
VERSION:2.0
PRODID:-//AudioTheme 3.0.2
BEGIN:VEVENT
UID:urn:uuid:3455d531-27e8-4865-820c-141ca2e263f3
URL:https://manowar.com/tour/kings-of-metal-fighting-the-world-tour-2027-24/
DTSTART;VALUE=DATE:20270315
SUMMARY:KINGS OF METAL FIGHTING THE WORLD TOUR 2027
LOCATION:Partille Arena\, Gamla Kronvägen 2\, 433 33\, Gothenburg (SE)\, 
END:VEVENT
END:VCALENDAR
