BEGIN:VCALENDAR
VERSION:2.0
PRODID:-//AudioTheme 3.0.2
BEGIN:VEVENT
UID:urn:uuid:e0752bef-2cf0-4f26-92c4-fa530f62ad47
URL:https://manowar.com/tour/https-www-eventim-de-noapp-event-19269710-affiliatemnoutm_sourcemnoutm_mediumdputm_campaignpoisonivyevents/
DTSTART;VALUE=DATE:20250223
SUMMARY:THE BLOOD OF OUR ENEMIES TOUR 2025 - SIEGEN, GERMANY
DESCRIPTION:Tonight\, we will perform the entire "Hail To England" album plus other greatest hits in an epic new production! Feel the energy and community of our Army of Immortals! A MUST for every true MANOWAR fan! 🔥💪
LOCATION:Siegerlandhalle\, Koblenzer Str. 151\, Siegen\, \, 57072
END:VEVENT
END:VCALENDAR
