BEGIN:VCALENDAR
VERSION:2.0
PRODID:-//AudioTheme 3.0.2
BEGIN:VEVENT
UID:http://www.darkgrove.net/wptest/?post_type=audiotheme_gig&#038;p=39
URL:https://manowar.com/tour/gig-magic-circle-festival/
DTSTART;VALUE=DATE:20140726
SUMMARY:Magic Circle Festival
LOCATION:Magic Circle Festival\, Helsinki (FI)\, \, Finland
END:VEVENT
END:VCALENDAR
