BEGIN:VCALENDAR
VERSION:2.0
PRODID:-//AudioTheme 3.0.2
BEGIN:VEVENT
UID:http://www.darkgrove.net/wptest/?post_type=audiotheme_gig&amp;p=33
URL:https://manowar.com/tour/gig-kings-of-metal-mmxiv-world-tour/
DTSTART;VALUE=DATE:20140705
SUMMARY:Kings Of Metal MMXIV World Tour
END:VEVENT
END:VCALENDAR
