BEGIN:VCALENDAR
VERSION:2.0
PRODID:-//AudioTheme 3.0.2
BEGIN:VEVENT
UID:http://www.darkgrove.net/wptest/?post_type=audiotheme_gig&#038;p=56
URL:https://manowar.com/tour/gig-kings-of-metal-mmxiv-world-tour-6/
DTSTART;VALUE=DATE:20150117
SUMMARY:Kings Of Metal MMXIV World Tour
DESCRIPTION:SOLD OUT
END:VEVENT
END:VCALENDAR
