BEGIN:VCALENDAR
VERSION:2.0
PRODID:-//AudioTheme 3.0.2
BEGIN:VEVENT
UID:http://www.darkgrove.net/wptest/?post_type=audiotheme_gig&#038;p=55
URL:https://manowar.com/tour/gig-kings-of-metal-mmxiv-world-tour-5/
DTSTART;VALUE=DATE:20150116
SUMMARY:Kings Of Metal MMXIV World Tour
LOCATION:Zenith\, Lilienthalallee 29\, 80939 München\, Germany\, Munich (DE) - SOLD OUT\, \, Germany\, 80939
END:VEVENT
END:VCALENDAR
