BEGIN:VCALENDAR
VERSION:2.0
PRODID:-//AudioTheme 3.0.2
BEGIN:VEVENT
UID:http://manowar.com/?post_type=audiotheme_gig&#038;p=2360
URL:https://manowar.com/tour/gig-2360/
DTSTART;TZID=GMT:20150118T190000
SUMMARY:Kings Of Metal MMXIV World Tour
LOCATION:St. Jakobshalle\, Brüglingerstr. 19-21\, Basel (CH)\, \, Switzerland\, 4052
END:VEVENT
END:VCALENDAR
