BEGIN:VCALENDAR
VERSION:2.0
PRODID:-//AudioTheme 3.0.2
BEGIN:VEVENT
UID:urn:uuid:744363e6-755e-46d8-baf4-8e663340c8ae
URL:https://manowar.com/tour/fan-convention-2023/
DTSTART;VALUE=DATE:20230224
SUMMARY:Fan Convention 2023
DESCRIPTION:Tickets are on sale at Eventim.de
LOCATION:Kesselhaus\, Knaackstraße 97\, 10435\, Berlin (DE)\, \, Germany
END:VEVENT
END:VCALENDAR
