BEGIN:VCALENDAR
VERSION:2.0
PRODID:-//AudioTheme 3.0.2
BEGIN:VEVENT
UID:urn:uuid:a4c39f43-b6f4-49df-90c5-5b3fab9c6880
URL:https://manowar.com/tour/blood-of-our-enemies-tour-2025/
DTSTART;TZID=GMT:20250123T010000
SUMMARY:THE BLOOD OF OUR ENEMIES TOUR 2025 - OSTRAVAR ARENA, OSTRAVA
DESCRIPTION:MANOWAR Return To The Czech Republic On The "Blood Of Our Enemies Tour 2025" playing highlights from "Hail To England" and "Sign Of The Hammer" + greatest hits!
LOCATION:Ostravar Aréna\, Ruská 3077 /135\, 700 30\, Ostrava-jih-Zábřeh\, \, Czechia
END:VEVENT
END:VCALENDAR
