BEGIN:VCALENDAR
VERSION:2.0
PRODID:-//AudioTheme 3.0.2
BEGIN:VEVENT
UID:urn:uuid:d02047fa-5ab8-4620-9122-cd0106533a7c
URL:https://manowar.com/tour/anniversary-tour-22-23-3/
DTSTART;VALUE=DATE:20230827
SUMMARY:Anniversary Tour '22/'23
DESCRIPTION:Tickets are on sale at starticket.ch and ticketcorner.ch
LOCATION:Riverside Festival Aarburg\, Badstrasse\, 4663\, Aarburg (CH)\, \, Switzerland
END:VEVENT
END:VCALENDAR
