BEGIN:VCALENDAR
VERSION:2.0
PRODID:-//AudioTheme 3.0.2
BEGIN:VEVENT
UID:urn:uuid:99259299-e5d9-4783-82f6-eb931ac00049
URL:https://manowar.com/tour/2027-03-08/
DTSTART;VALUE=DATE:20270308
SUMMARY:KINGS OF METAL FIGHTING THE WORLD TOUR 2027
LOCATION:Hallenstadion\, Wallisellenstrasse 45\,\, Zürich (CH)\, \, Switzerland\, 8050
END:VEVENT
END:VCALENDAR
