BEGIN:VCALENDAR
VERSION:2.0
PRODID:-//AudioTheme 3.0.2
BEGIN:VEVENT
UID:urn:uuid:a9925cc7-3abf-4831-8dc8-89cccdb85954
URL:https://manowar.com/tour/2025-02-21/
DTSTART;VALUE=DATE:20250221
SUMMARY:THE BLOOD OF OUR ENEMIES TOUR 2025 - BERLIN, GERMANY
DESCRIPTION:Tonight\, we will perform the entire "Hail To England" album plus other greatest hits in an epic new production! Feel the energy and community of our Army of Immortals! A MUST for every true MANOWAR fan! 🔥💪
LOCATION:Velodrom\, Paul-Heyse-Straße 26 \,  Berlin (DE)\, \, Germany\, 10407
END:VEVENT
END:VCALENDAR
