BEGIN:VCALENDAR
VERSION:2.0
PRODID:-//AudioTheme 3.0.2
BEGIN:VEVENT
UID:urn:uuid:4f882bca-014b-4516-bdf3-39b56970639c
URL:https://manowar.com/tour/2025-02-19/
DTSTART;VALUE=DATE:20250219
SUMMARY:THE BLOOD OF OUR ENEMIES TOUR 2025 - BRAUNSCHWEIG, GERMANY
DESCRIPTION:Tonight\, we will perform the entire "Sign Of The Hammer" album plus other greatest hits in an epic new production! Feel the energy and community of our Army of Immortals! A MUST for every true MANOWAR fan! 🔥💪
LOCATION:VOLKSWAGEN HALLE\, Europapl. 1\, 38122 Braunschweig\, Germany\, BRAUNSCHWEIG\, \, GERMANY
END:VEVENT
END:VCALENDAR
