BEGIN:VCALENDAR
VERSION:2.0
PRODID:-//AudioTheme 3.0.2
BEGIN:VEVENT
UID:urn:uuid:47982966-f57d-47fc-b478-c2298bd90bca
URL:https://manowar.com/tour/2022-06-18/
DTSTART;TZID=GMT:20230603T160000
SUMMARY:ANNIVERSARY TOUR '22/'23
DESCRIPTION:Tickets are on sale at www.passo.com.tr
LOCATION:Maçka Küçükçiftlik Park\, Harbiye Mahallesi\, Kadırgalar Yokuşu No:4\, 34367 Maçka\, İstanbul (TR)\, \, Turkey
END:VEVENT
END:VCALENDAR
