BEGIN:VCALENDAR
VERSION:2.0
PRODID:-//AudioTheme 3.0.2
BEGIN:VEVENT
UID:urn:uuid:a4ddc5ea-95ba-4a87-b1c8-459fae61dc0b
URL:https://manowar.com/tour/2022-04-10/
DTSTART;VALUE=DATE:20230206
SUMMARY:ANNIVERSARY TOUR '22/'23
DESCRIPTION:Tickets are on sale at www.ticketmaster.dk
LOCATION:Forum Black Box\, Julius Thomsens Pl. 1\, 1925 Frederiksberg\, Copenhagen (DK)\, 
END:VEVENT
END:VCALENDAR
