BEGIN:VCALENDAR
VERSION:2.0
PRODID:-//AudioTheme 3.0.2
BEGIN:VEVENT
UID:urn:uuid:d6caf8ea-5b60-448a-9258-bc92225964e3
URL:https://manowar.com/tour/2022-04-07/
DTSTART;VALUE=DATE:20230222
SUMMARY:ANNIVERSARY TOUR '22/'23
DESCRIPTION:Tickets are on sale at www.ticketmaster.no 
LOCATION:Spektrum\, Sonja Henies plass 2\, 0185\, Oslo (NO)\, \, Norway
END:VEVENT
END:VCALENDAR
