BEGIN:VCALENDAR
VERSION:2.0
PRODID:-//AudioTheme 3.0.2
BEGIN:VEVENT
UID:urn:uuid:effe3383-9cc7-4edb-99f7-a6946b8f1344
URL:https://manowar.com/tour/2021-04-17/
DTSTART;TZID=GMT:20230211T190000
SUMMARY:ANNIVERSARY TOUR ’22/'23
DESCRIPTION:Tickets are on sale at www.eventim.de
LOCATION:Arena Nürnberg Versicherung\, Kurt-Leucht-Weg 11\,\, Nurnberg (DE)\, \, Germany\, 90471
END:VEVENT
END:VCALENDAR
