BEGIN:VCALENDAR
VERSION:2.0
PRODID:-//AudioTheme 3.0.2
BEGIN:VEVENT
UID:urn:uuid:8b16f290-9696-4fbf-b0a4-aa3c68a58fe2
URL:https://manowar.com/tour/2021-04-16/
DTSTART;TZID=GMT:20230217T190000
SUMMARY:ANNIVERSARY TOUR ’22/'23
DESCRIPTION:Tickets are on sale at www.eventim.de 
LOCATION:Ratiopharm Arena\, Europastraße 25\,\, Neu-Ulm (DE)\, \, Germany\, 89231
END:VEVENT
END:VCALENDAR
