BEGIN:VCALENDAR
VERSION:2.0
PRODID:-//AudioTheme 3.0.2
BEGIN:VEVENT
UID:urn:uuid:7f948333-697d-4880-92fb-5b75db497b23
URL:https://manowar.com/tour/2021-04-13/
DTSTART;TZID=GMT:20230225T190000
SUMMARY:ANNIVERSARY TOUR ’22/'23
DESCRIPTION:Tickets are on sale at www.eventim.de 
LOCATION:Velodrom\, Paul-Heyse-Straße 26 \,  Berlin (DE)\, \, Germany\, 10407
END:VEVENT
END:VCALENDAR
