BEGIN:VCALENDAR
VERSION:2.0
PRODID:-//AudioTheme 3.0.2
BEGIN:VEVENT
UID:urn:uuid:7cf28220-aa6f-4900-a9ec-62174369af2d
URL:https://manowar.com/tour/2021-04-10/
DTSTART;TZID=GMT:20230215T190000
SUMMARY:ANNIVERSARY TOUR ’22/'23
DESCRIPTION:Tickets are on sale at www.eventim.de
LOCATION:SAP Arena\, An der Arena 1\,\, Mannheim (DE)\, \, Germany\, 6816
END:VEVENT
END:VCALENDAR
