BEGIN:VCALENDAR
VERSION:2.0
PRODID:-//AudioTheme 3.0.2
BEGIN:VEVENT
UID:urn:uuid:8ec46a15-8534-4943-a2b1-286585f31b11
URL:https://manowar.com/tour/2021-04-09/
DTSTART;TZID=GMT:20230219T010000
SUMMARY:ANNIVERSARY TOUR ’22/'23
DESCRIPTION:Tickets are on sale at www.eventim.de 
LOCATION:Rudolf Weber-Arena\, Arenastraße 1\, 46047\, Oberhausen (DE)\, \, Germany
END:VEVENT
END:VCALENDAR
