BEGIN:VCALENDAR
VERSION:2.0
PRODID:-//AudioTheme 3.0.2
BEGIN:VEVENT
UID:urn:uuid:b7649370-20b9-41b9-8b69-9bdbe5ea1458
URL:https://manowar.com/tour/2021-04-08/
DTSTART;TZID=GMT:20230208T190000
SUMMARY:ANNIVERSARY TOUR '22/’23
DESCRIPTION:Tickets are on sale at www.eventim.nl 
LOCATION:Ahoy\, Ahoyweg 10\, 3084 BA\, Rotterdam (NL)\, \, The Netherlands
END:VEVENT
END:VCALENDAR
